Package: wiggleplotr Version: 1.30.0 Command: rm -rf wiggleplotr.buildbin-libdir && mkdir wiggleplotr.buildbin-libdir && F:\biocbuild\bbs-3.20-bioc\R\bin\R.exe CMD INSTALL --build --library=wiggleplotr.buildbin-libdir wiggleplotr_1.30.0.tar.gz StartedAt: 2025-01-14 09:30:01 -0500 (Tue, 14 Jan 2025) EndedAt: 2025-01-14 09:30:23 -0500 (Tue, 14 Jan 2025) EllapsedTime: 21.5 seconds RetCode: 0 Status: OK PackageFile: wiggleplotr_1.30.0.zip PackageFileSize: 224.9 KiB