Package: wiggleplotr Version: 1.30.0 Command: /home/biocbuild/bbs-3.20-bioc/R/bin/R CMD INSTALL wiggleplotr StartedAt: 2025-01-27 16:11:24 -0500 (Mon, 27 Jan 2025) EndedAt: 2025-01-27 16:11:28 -0500 (Mon, 27 Jan 2025) EllapsedTime: 4.4 seconds RetCode: 0 Status: OK