Package: wiggleplotr Version: 1.30.0 Command: /home/biocbuild/bbs-3.20-bioc/R/bin/R CMD check --install=check:wiggleplotr.install-out.txt --library=/home/biocbuild/bbs-3.20-bioc/R/site-library --timings wiggleplotr_1.30.0.tar.gz StartedAt: 2025-01-14 03:16:06 -0500 (Tue, 14 Jan 2025) EndedAt: 2025-01-14 03:17:44 -0500 (Tue, 14 Jan 2025) EllapsedTime: 98.1 seconds RetCode: 0 Status: OK CheckDir: wiggleplotr.Rcheck Warnings: 0