Package: wiggleplotr Version: 1.30.0 Command: /Library/Frameworks/R.framework/Resources/bin/R CMD check --install=check:wiggleplotr.install-out.txt --library=/Library/Frameworks/R.framework/Resources/library --no-vignettes --timings wiggleplotr_1.30.0.tar.gz StartedAt: 2025-04-01 10:53:53 -0400 (Tue, 01 Apr 2025) EndedAt: 2025-04-01 10:56:24 -0400 (Tue, 01 Apr 2025) EllapsedTime: 150.3 seconds RetCode: 0 Status: OK CheckDir: wiggleplotr.Rcheck Warnings: 0