Package: wiggleplotr Version: 1.30.0 Command: /home/biocbuild/R/R/bin/R CMD INSTALL wiggleplotr StartedAt: 2024-11-19 20:46:52 -0000 (Tue, 19 Nov 2024) EndedAt: 2024-11-19 20:46:58 -0000 (Tue, 19 Nov 2024) EllapsedTime: 6.0 seconds RetCode: 0 Status: OK