Package: wiggleplotr Version: 1.30.0 Command: /Library/Frameworks/R.framework/Resources/bin/R CMD INSTALL wiggleplotr StartedAt: 2025-01-27 15:57:49 -0500 (Mon, 27 Jan 2025) EndedAt: 2025-01-27 15:57:54 -0500 (Mon, 27 Jan 2025) EllapsedTime: 4.6 seconds RetCode: 0 Status: OK