Package: widgetTools Version: 1.84.0 Command: /home/biocbuild/R/R/bin/R CMD build --keep-empty-dirs --no-resave-data widgetTools StartedAt: 2025-01-28 04:08:02 -0000 (Tue, 28 Jan 2025) EndedAt: 2025-01-28 04:08:10 -0000 (Tue, 28 Jan 2025) EllapsedTime: 8.0 seconds RetCode: 0 Status: OK PackageFile: widgetTools_1.84.0.tar.gz PackageFileSize: 222.3 KiB