Package: widgetTools Version: 1.84.0 Command: rm -rf widgetTools.buildbin-libdir && mkdir widgetTools.buildbin-libdir && F:\biocbuild\bbs-3.20-bioc\R\bin\R.exe CMD INSTALL --build --library=widgetTools.buildbin-libdir widgetTools_1.84.0.tar.gz StartedAt: 2025-04-01 09:28:55 -0400 (Tue, 01 Apr 2025) EndedAt: 2025-04-01 09:30:20 -0400 (Tue, 01 Apr 2025) EllapsedTime: 85.3 seconds RetCode: 0 Status: OK PackageFile: widgetTools_1.84.0.zip PackageFileSize: 349.6 KiB