Package: weitrix Version: 1.18.0 Command: /home/biocbuild/R/R/bin/R CMD INSTALL weitrix StartedAt: 2025-03-31 20:26:11 -0000 (Mon, 31 Mar 2025) EndedAt: 2025-03-31 20:26:45 -0000 (Mon, 31 Mar 2025) EllapsedTime: 33.3 seconds RetCode: 0 Status: OK