Package: weitrix Version: 1.18.0 Command: /home/biocbuild/bbs-3.20-bioc/R/bin/R CMD INSTALL weitrix StartedAt: 2025-03-31 15:20:41 -0400 (Mon, 31 Mar 2025) EndedAt: 2025-03-31 15:21:05 -0400 (Mon, 31 Mar 2025) EllapsedTime: 24.3 seconds RetCode: 0 Status: OK