Package: weitrix Version: 1.18.0 Command: /Library/Frameworks/R.framework/Resources/bin/R CMD INSTALL weitrix StartedAt: 2025-03-31 15:24:32 -0400 (Mon, 31 Mar 2025) EndedAt: 2025-03-31 15:25:33 -0400 (Mon, 31 Mar 2025) EllapsedTime: 60.9 seconds RetCode: 0 Status: OK