Package: weitrix Version: 1.18.0 Command: /Library/Frameworks/R.framework/Resources/bin/R CMD check --install=check:weitrix.install-out.txt --library=/Library/Frameworks/R.framework/Resources/library --no-vignettes --timings weitrix_1.18.0.tar.gz StartedAt: 2025-04-02 12:43:22 -0400 (Wed, 02 Apr 2025) EndedAt: 2025-04-02 12:48:32 -0400 (Wed, 02 Apr 2025) EllapsedTime: 309.6 seconds RetCode: 0 Status: OK CheckDir: weitrix.Rcheck Warnings: 0