Package: webbioc Version: 1.78.0 Command: /home/biocbuild/R/R/bin/R CMD INSTALL webbioc StartedAt: 2025-01-30 20:54:16 -0000 (Thu, 30 Jan 2025) EndedAt: 2025-01-30 20:54:41 -0000 (Thu, 30 Jan 2025) EllapsedTime: 25.0 seconds RetCode: 0 Status: OK