Package: weaver Version: 1.72.0 Command: /home/biocbuild/R/R/bin/R CMD INSTALL weaver StartedAt: 2025-02-03 20:48:19 -0000 (Mon, 03 Feb 2025) EndedAt: 2025-02-03 20:48:20 -0000 (Mon, 03 Feb 2025) EllapsedTime: 1.8 seconds RetCode: 0 Status: OK