Package: weaver Version: 1.72.0 Command: rm -rf weaver.buildbin-libdir && mkdir weaver.buildbin-libdir && F:\biocbuild\bbs-3.20-bioc\R\bin\R.exe CMD INSTALL --build --library=weaver.buildbin-libdir weaver_1.72.0.tar.gz StartedAt: 2025-04-01 09:28:45 -0400 (Tue, 01 Apr 2025) EndedAt: 2025-04-01 09:28:51 -0400 (Tue, 01 Apr 2025) EllapsedTime: 5.9 seconds RetCode: 0 Status: OK PackageFile: weaver_1.72.0.zip PackageFileSize: 130.9 KiB