Package: weaver Version: 1.72.0 Command: /Library/Frameworks/R.framework/Resources/bin/R CMD build --keep-empty-dirs --no-resave-data weaver StartedAt: 2025-01-28 10:15:28 -0500 (Tue, 28 Jan 2025) EndedAt: 2025-01-28 10:15:39 -0500 (Tue, 28 Jan 2025) EllapsedTime: 10.3 seconds RetCode: 0 Status: OK PackageFile: weaver_1.72.0.tar.gz PackageFileSize: 230.8 KiB