Package: wavClusteR Version: 2.40.0 Command: /home/biocbuild/R/R/bin/R CMD INSTALL wavClusteR StartedAt: 2025-02-03 20:55:29 -0000 (Mon, 03 Feb 2025) EndedAt: 2025-02-03 20:56:16 -0000 (Mon, 03 Feb 2025) EllapsedTime: 46.1 seconds RetCode: 0 Status: OK