Package: wavClusteR Version: 2.40.0 Command: /home/biocbuild/R/R/bin/R CMD check --install=check:wavClusteR.install-out.txt --library=/home/biocbuild/R/R/site-library --no-vignettes --timings wavClusteR_2.40.0.tar.gz StartedAt: 2025-04-01 11:45:58 -0000 (Tue, 01 Apr 2025) EndedAt: 2025-04-01 11:51:44 -0000 (Tue, 01 Apr 2025) EllapsedTime: 346.0 seconds RetCode: 0 Status: OK CheckDir: wavClusteR.Rcheck Warnings: 0