Package: wavClusteR Version: 2.40.0 Command: /home/biocbuild/R/R/bin/R CMD build --keep-empty-dirs --no-resave-data wavClusteR StartedAt: 2025-01-28 04:06:50 -0000 (Tue, 28 Jan 2025) EndedAt: 2025-01-28 04:08:09 -0000 (Tue, 28 Jan 2025) EllapsedTime: 79.0 seconds RetCode: 0 Status: OK PackageFile: wavClusteR_2.40.0.tar.gz PackageFileSize: 550.7 KiB