Package: wavClusteR Version: 2.40.0 Command: /Library/Frameworks/R.framework/Resources/bin/R CMD build --keep-empty-dirs --no-resave-data wavClusteR StartedAt: 2025-01-27 23:28:14 -0500 (Mon, 27 Jan 2025) EndedAt: 2025-01-27 23:30:29 -0500 (Mon, 27 Jan 2025) EllapsedTime: 134.9 seconds RetCode: 0 Status: OK PackageFile: wavClusteR_2.40.0.tar.gz PackageFileSize: 789.5 KiB