Package: wavClusteR Version: 2.40.0 Command: rm -rf wavClusteR.buildbin-libdir && mkdir wavClusteR.buildbin-libdir && /Users/biocbuild/BBS/utils/build-universal.sh wavClusteR_2.40.0.tar.gz /Library/Frameworks/R.framework/Resources/bin/R wavClusteR.buildbin-libdir StartedAt: 2025-04-01 12:59:24 -0400 (Tue, 01 Apr 2025) EndedAt: 2025-04-01 13:00:54 -0400 (Tue, 01 Apr 2025) EllapsedTime: 89.8 seconds RetCode: 0 Status: OK PackageFile: wavClusteR_2.40.0.tgz PackageFileSize: 896.2 KiB