Package: wateRmelon Version: 2.12.0 Command: /home/biocbuild/R/R/bin/R CMD check --install=check:wateRmelon.install-out.txt --library=/home/biocbuild/R/R/site-library --no-vignettes --timings wateRmelon_2.12.0.tar.gz StartedAt: 2025-01-31 11:28:28 -0000 (Fri, 31 Jan 2025) EndedAt: 2025-01-31 11:36:25 -0000 (Fri, 31 Jan 2025) EllapsedTime: 476.7 seconds RetCode: 0 Status: WARNINGS CheckDir: wateRmelon.Rcheck Warnings: 5