Package: wateRmelon Version: 2.11.2 Command: C:\Users\biocbuild\bbs-3.20-bioc\R\bin\R.exe CMD check --no-multiarch --install=check:wateRmelon.install-out.txt --library=C:\Users\biocbuild\bbs-3.20-bioc\R\library --no-vignettes --timings wateRmelon_2.11.2.tar.gz StartedAt: 2024-07-16 05:25:53 -0400 (Tue, 16 Jul 2024) EndedAt: 2024-07-16 05:33:50 -0400 (Tue, 16 Jul 2024) EllapsedTime: 476.4 seconds RetCode: 0 Status: WARNINGS CheckDir: wateRmelon.Rcheck Warnings: 5