Package: wateRmelon Version: 2.12.0 Command: /Library/Frameworks/R.framework/Resources/bin/R CMD INSTALL wateRmelon StartedAt: 2025-01-27 16:45:17 -0500 (Mon, 27 Jan 2025) EndedAt: 2025-01-27 16:47:16 -0500 (Mon, 27 Jan 2025) EllapsedTime: 119.4 seconds RetCode: 0 Status: OK