Package: wateRmelon Version: 2.12.0 Command: /Library/Frameworks/R.framework/Resources/bin/R CMD check --install=check:wateRmelon.install-out.txt --library=/Library/Frameworks/R.framework/Resources/library --no-vignettes --timings wateRmelon_2.12.0.tar.gz StartedAt: 2025-04-01 10:52:36 -0400 (Tue, 01 Apr 2025) EndedAt: 2025-04-01 11:04:30 -0400 (Tue, 01 Apr 2025) EllapsedTime: 714.1 seconds RetCode: 0 Status: WARNINGS CheckDir: wateRmelon.Rcheck Warnings: 5