Package: waddR Version: 1.20.0 Command: /Library/Frameworks/R.framework/Resources/bin/R CMD INSTALL waddR StartedAt: 2025-02-03 15:33:52 -0500 (Mon, 03 Feb 2025) EndedAt: 2025-02-03 15:35:24 -0500 (Mon, 03 Feb 2025) EllapsedTime: 92.0 seconds RetCode: 0 Status: OK