Package: vulcan Version: 1.28.0 Command: /home/biocbuild/R/R/bin/R CMD INSTALL vulcan StartedAt: 2025-01-27 21:53:13 -0000 (Mon, 27 Jan 2025) EndedAt: 2025-01-27 21:54:27 -0000 (Mon, 27 Jan 2025) EllapsedTime: 74.2 seconds RetCode: 0 Status: OK