Package: vulcan Version: 1.28.0 Command: /home/biocbuild/R/R/bin/R CMD check --install=check:vulcan.install-out.txt --library=/home/biocbuild/R/R/site-library --no-vignettes --timings vulcan_1.28.0.tar.gz StartedAt: 2025-01-28 12:18:22 -0000 (Tue, 28 Jan 2025) EndedAt: 2025-01-28 12:26:27 -0000 (Tue, 28 Jan 2025) EllapsedTime: 484.6 seconds RetCode: 0 Status: OK CheckDir: vulcan.Rcheck Warnings: 0