Package: vulcan Version: 1.28.0 Command: /home/biocbuild/bbs-3.20-bioc/R/bin/R CMD INSTALL vulcan StartedAt: 2025-01-27 16:42:05 -0500 (Mon, 27 Jan 2025) EndedAt: 2025-01-27 16:43:15 -0500 (Mon, 27 Jan 2025) EllapsedTime: 70.0 seconds RetCode: 0 Status: OK