Package: vulcan Version: 1.28.0 Command: /Library/Frameworks/R.framework/Resources/bin/R CMD INSTALL vulcan StartedAt: 2025-02-03 16:29:39 -0500 (Mon, 03 Feb 2025) EndedAt: 2025-02-03 16:31:40 -0500 (Mon, 03 Feb 2025) EllapsedTime: 120.9 seconds RetCode: 0 Status: OK