Package: vulcan Version: 1.28.0 Command: /Library/Frameworks/R.framework/Resources/bin/R CMD check --install=check:vulcan.install-out.txt --library=/Library/Frameworks/R.framework/Resources/library --no-vignettes --timings vulcan_1.28.0.tar.gz StartedAt: 2025-02-04 11:53:24 -0500 (Tue, 04 Feb 2025) EndedAt: 2025-02-04 12:06:02 -0500 (Tue, 04 Feb 2025) EllapsedTime: 757.3 seconds RetCode: 0 Status: OK CheckDir: vulcan.Rcheck Warnings: 0