Package: vulcan Version: 1.28.0 Command: /Library/Frameworks/R.framework/Resources/bin/R CMD INSTALL vulcan StartedAt: 2024-11-08 15:42:11 -0500 (Fri, 08 Nov 2024) EndedAt: 2024-11-08 15:42:34 -0500 (Fri, 08 Nov 2024) EllapsedTime: 22.4 seconds RetCode: 0 Status: OK