Package: vulcan Version: 1.28.0 Command: /Library/Frameworks/R.framework/Resources/bin/R CMD check --install=check:vulcan.install-out.txt --library=/Library/Frameworks/R.framework/Resources/library --no-vignettes --timings vulcan_1.28.0.tar.gz StartedAt: 2025-04-02 12:37:14 -0400 (Wed, 02 Apr 2025) EndedAt: 2025-04-02 12:45:05 -0400 (Wed, 02 Apr 2025) EllapsedTime: 470.8 seconds RetCode: 0 Status: OK CheckDir: vulcan.Rcheck Warnings: 0