Package: vulcan Version: 1.28.0 Command: /Library/Frameworks/R.framework/Resources/bin/R CMD build --keep-empty-dirs --no-resave-data vulcan StartedAt: 2025-04-01 10:00:36 -0400 (Tue, 01 Apr 2025) EndedAt: 2025-04-01 10:02:27 -0400 (Tue, 01 Apr 2025) EllapsedTime: 111.8 seconds RetCode: 0 Status: OK PackageFile: vulcan_1.28.0.tar.gz PackageFileSize: 390.2 KiB