Package: vulcan Version: 1.28.0 Command: rm -rf vulcan.buildbin-libdir && mkdir vulcan.buildbin-libdir && /Users/biocbuild/BBS/utils/build-universal.sh vulcan_1.28.0.tar.gz /Library/Frameworks/R.framework/Resources/bin/R vulcan.buildbin-libdir StartedAt: 2025-01-29 17:03:44 -0500 (Wed, 29 Jan 2025) EndedAt: 2025-01-29 17:04:59 -0500 (Wed, 29 Jan 2025) EllapsedTime: 75.1 seconds RetCode: 0 Status: OK PackageFile: vulcan_1.28.0.tgz PackageFileSize: 462.8 KiB