Package: vulcan Version: 1.28.0 Maintainer: Federico M. Giorgi MaintainerEmail: federico.giorgi at gmail.com git_url: https://git.bioconductor.org/packages/vulcan git_branch: RELEASE_3_20 git_last_commit: 58e0f0f git_last_commit_date: 2024-10-29 10:22:43 -0500 (Tue, 29 Oct 2024)