Package: vtpnet Version: 0.46.0 Command: /Library/Frameworks/R.framework/Resources/bin/R CMD INSTALL vtpnet StartedAt: 2024-11-19 15:38:59 -0500 (Tue, 19 Nov 2024) EndedAt: 2024-11-19 15:40:06 -0500 (Tue, 19 Nov 2024) EllapsedTime: 66.8 seconds RetCode: 0 Status: OK