Package: vsn Version: 3.74.0 Command: /home/biocbuild/R/R/bin/R CMD INSTALL vsn StartedAt: 2025-02-03 20:32:33 -0000 (Mon, 03 Feb 2025) EndedAt: 2025-02-03 20:32:44 -0000 (Mon, 03 Feb 2025) EllapsedTime: 11.0 seconds RetCode: 0 Status: OK