Package: vsn Version: 3.74.0 Command: /home/biocbuild/R/R/bin/R CMD build --keep-empty-dirs --no-resave-data vsn StartedAt: 2025-01-28 04:05:45 -0000 (Tue, 28 Jan 2025) EndedAt: 2025-01-28 04:06:46 -0000 (Tue, 28 Jan 2025) EllapsedTime: 61.0 seconds RetCode: 0 Status: OK PackageFile: vsn_3.74.0.tar.gz PackageFileSize: 1.35 MiB