Package: vsn Version: 3.73.0 Command: C:\Users\biocbuild\bbs-3.20-bioc\R\bin\R.exe CMD check --no-multiarch --install=check:vsn.install-out.txt --library=C:\Users\biocbuild\bbs-3.20-bioc\R\library --no-vignettes --timings vsn_3.73.0.tar.gz StartedAt: 2024-07-16 05:24:40 -0400 (Tue, 16 Jul 2024) EndedAt: 2024-07-16 05:26:04 -0400 (Tue, 16 Jul 2024) EllapsedTime: 83.4 seconds RetCode: 0 Status: OK CheckDir: vsn.Rcheck Warnings: 0