Package: vsn Version: 3.74.0 Command: /home/biocbuild/bbs-3.20-bioc/R/bin/R CMD INSTALL vsn StartedAt: 2025-01-27 16:06:09 -0500 (Mon, 27 Jan 2025) EndedAt: 2025-01-27 16:06:17 -0500 (Mon, 27 Jan 2025) EllapsedTime: 7.7 seconds RetCode: 0 Status: OK