Package: vsn Version: 3.74.0 Command: /Library/Frameworks/R.framework/Resources/bin/R CMD check --install=check:vsn.install-out.txt --library=/Library/Frameworks/R.framework/Resources/library --no-vignettes --timings vsn_3.74.0.tar.gz StartedAt: 2025-02-04 11:53:15 -0500 (Tue, 04 Feb 2025) EndedAt: 2025-02-04 11:55:16 -0500 (Tue, 04 Feb 2025) EllapsedTime: 120.7 seconds RetCode: 0 Status: OK CheckDir: vsn.Rcheck Warnings: 0