Package: vsn Version: 3.74.0 Command: /Library/Frameworks/R.framework/Resources/bin/R CMD build --keep-empty-dirs --no-resave-data vsn StartedAt: 2025-01-27 23:26:40 -0500 (Mon, 27 Jan 2025) EndedAt: 2025-01-27 23:28:28 -0500 (Mon, 27 Jan 2025) EllapsedTime: 108.2 seconds RetCode: 0 Status: OK PackageFile: vsn_3.74.0.tar.gz PackageFileSize: 2.253 MiB