Package: vsn Version: 3.74.0 Command: /home/biocbuild/R/R/bin/R CMD INSTALL vsn StartedAt: 2024-11-19 20:35:17 -0000 (Tue, 19 Nov 2024) EndedAt: 2024-11-19 20:35:30 -0000 (Tue, 19 Nov 2024) EllapsedTime: 12.9 seconds RetCode: 0 Status: OK