Package: vsn Version: 3.74.0 Command: /home/biocbuild/R/R/bin/R CMD check --install=check:vsn.install-out.txt --library=/home/biocbuild/R/R/site-library --no-vignettes --timings vsn_3.74.0.tar.gz StartedAt: 2024-11-20 13:41:40 -0000 (Wed, 20 Nov 2024) EndedAt: 2024-11-20 13:42:53 -0000 (Wed, 20 Nov 2024) EllapsedTime: 73.1 seconds RetCode: 0 Status: OK CheckDir: vsn.Rcheck Warnings: 0