Package: vidger Version: 1.26.0 Command: /Library/Frameworks/R.framework/Resources/bin/R CMD INSTALL vidger StartedAt: 2025-01-27 16:02:12 -0500 (Mon, 27 Jan 2025) EndedAt: 2025-01-27 16:03:28 -0500 (Mon, 27 Jan 2025) EllapsedTime: 75.7 seconds RetCode: 0 Status: OK