Package: vidger Version: 1.26.0 Command: /Library/Frameworks/R.framework/Resources/bin/R CMD INSTALL vidger StartedAt: 2025-02-10 16:52:10 -0500 (Mon, 10 Feb 2025) EndedAt: 2025-02-10 16:52:51 -0500 (Mon, 10 Feb 2025) EllapsedTime: 40.8 seconds RetCode: 0 Status: OK