Package: vidger Version: 1.26.0 Command: /Library/Frameworks/R.framework/Resources/bin/R CMD build --keep-empty-dirs --no-resave-data vidger StartedAt: 2025-02-11 10:17:27 -0500 (Tue, 11 Feb 2025) EndedAt: 2025-02-11 10:19:24 -0500 (Tue, 11 Feb 2025) EllapsedTime: 117.6 seconds RetCode: 0 Status: OK PackageFile: vidger_1.26.0.tar.gz PackageFileSize: 8.72 MiB