Package: velociraptor Version: 1.16.0 Command: rm -rf velociraptor.buildbin-libdir && mkdir velociraptor.buildbin-libdir && F:\biocbuild\bbs-3.20-bioc\R\bin\R.exe CMD INSTALL --build --library=velociraptor.buildbin-libdir velociraptor_1.16.0.tar.gz StartedAt: 2025-02-04 09:44:57 -0500 (Tue, 04 Feb 2025) EndedAt: 2025-02-04 09:45:32 -0500 (Tue, 04 Feb 2025) EllapsedTime: 35.2 seconds RetCode: 0 Status: OK PackageFile: velociraptor_1.16.0.zip PackageFileSize: 628.1 KiB