Package: velociraptor Version: 1.16.0 Command: /Library/Frameworks/R.framework/Resources/bin/R CMD check --install=check:velociraptor.install-out.txt --library=/Library/Frameworks/R.framework/Resources/library --no-vignettes --timings velociraptor_1.16.0.tar.gz StartedAt: 2025-02-04 11:46:57 -0500 (Tue, 04 Feb 2025) EndedAt: 2025-02-04 11:56:33 -0500 (Tue, 04 Feb 2025) EllapsedTime: 576.6 seconds RetCode: 0 Status: WARNINGS CheckDir: velociraptor.Rcheck Warnings: 2